BEGIN:VCALENDAR
VERSION:2.0
PRODID:-//Stratis iCal API//FR
CALSCALE:GREGORIAN
X-WR-CALNAME:Le printemps d'Ortanz à La Locale
BEGIN:VEVENT
UID:event-32648
SUMMARY:Le printemps d'Ortanz à La Locale
DESCRIPTION:<p><p>3 mercredis  3 ambiances pour découvrir l'improvisation libre et le Collectif Ortanz.</p><br /> </p>
DTSTAMP:20260119T113533Z
DTSTART:20260401T170000Z
DTEND:20260401T180000Z
STATUS:CONFIRMED
BEGIN:VALARM
TRIGGER:-PT30M
DESCRIPTION:Le printemps d'Ortanz à La Locale
ACTION:DISPLAY
END:VALARM
END:VEVENT
END:VCALENDAR