BEGIN:VCALENDAR
VERSION:2.0
PRODID:-//Stratis iCal API//FR
CALSCALE:GREGORIAN
X-WR-CALNAME:Résister par l'Art et la Culture 1940-1945
BEGIN:VEVENT
UID:event-32659
SUMMARY:Résister par l'Art et la Culture 1940-1945
DESCRIPTION:<p><p>Exposition espace pédagogique</p><br />  </p>
DTSTAMP:20260119T105001Z
DTSTART:20260513T113000Z
DTEND:20260513T150000Z
STATUS:CONFIRMED
BEGIN:VALARM
TRIGGER:-PT30M
DESCRIPTION:Résister par l'Art et la Culture 1940-1945
ACTION:DISPLAY
END:VALARM
END:VEVENT
END:VCALENDAR