BEGIN:VCALENDAR
VERSION:2.0
PRODID:-//Stratis iCal API//FR
CALSCALE:GREGORIAN
X-WR-CALNAME:LE CLAN TOURNEE 2026
BEGIN:VEVENT
UID:event-33158
SUMMARY:LE CLAN TOURNEE 2026
DESCRIPTION:<p><p>comédie théâtrale d'eric fraticelli</p><br /> </p>
DTSTAMP:20260305T113604Z
DTSTART:20260425T181500Z
DTEND:20260425T201500Z
STATUS:CONFIRMED
BEGIN:VALARM
TRIGGER:-PT30M
DESCRIPTION:LE CLAN TOURNEE 2026
ACTION:DISPLAY
END:VALARM
END:VEVENT
END:VCALENDAR