BEGIN:VCALENDAR
VERSION:2.0
PRODID:-//Stratis iCal API//FR
CALSCALE:GREGORIAN
X-WR-CALNAME:Rencontre & dédicace : Nicolas Bouchard
BEGIN:VEVENT
UID:event-33160
SUMMARY:Rencontre & dédicace : Nicolas Bouchard
DESCRIPTION:<p><p>Nous recevons Nicolas Bouchard pour la parution de son roman historique &quot.La république de Freia&quot. publié aux éditions Complicités.</p><br /> </p>
DTSTAMP:20260306T093245Z
DTSTART:20260424T163000Z
DTEND:20260424T180000Z
STATUS:CONFIRMED
BEGIN:VALARM
TRIGGER:-PT30M
DESCRIPTION:Rencontre & dédicace : Nicolas Bouchard
ACTION:DISPLAY
END:VALARM
END:VEVENT
END:VCALENDAR