BEGIN:VCALENDAR
VERSION:2.0
PRODID:-//Stratis iCal API//FR
CALSCALE:GREGORIAN
X-WR-CALNAME:Exposition Voyage en euro : Chypre
BEGIN:VEVENT
UID:event-33165
SUMMARY:Exposition Voyage en euro : Chypre
DESCRIPTION:<p><p>À travers la présentation des pièces d'euro chypriotes  découvrez l'île de Chypre  son patrimoine et sa culture.</p><br /> </p>
DTSTAMP:20260306T143721Z
DTSTART:20260404T080000Z
DTEND:20260404T160000Z
STATUS:CONFIRMED
BEGIN:VALARM
TRIGGER:-PT30M
DESCRIPTION:Exposition Voyage en euro : Chypre
ACTION:DISPLAY
END:VALARM
END:VEVENT
END:VCALENDAR