BEGIN:VCALENDAR
VERSION:2.0
PRODID:-//Stratis iCal API//FR
CALSCALE:GREGORIAN
X-WR-CALNAME:Printemps de la Mauvendière
BEGIN:VEVENT
UID:event-33417
SUMMARY:Printemps de la Mauvendière
DESCRIPTION:<p><p>Concerts  théâtre de rue  marché  ambiance festive et conviviale: du 5 au 7 juin 2026  venez vivre 3 jours d’animation gratuite au cœur de Limoges avec la 7ème édition du Printemps de la Mauvendière.</p><br /> </p>
DTSTAMP:20260418T095938Z
DTSTART:20260607T070000Z
DTEND:20260607T150000Z
STATUS:CONFIRMED
BEGIN:VALARM
TRIGGER:-PT30M
DESCRIPTION:Printemps de la Mauvendière
ACTION:DISPLAY
END:VALARM
END:VEVENT
END:VCALENDAR