BEGIN:VCALENDAR
VERSION:2.0
PRODID:-//Stratis iCal API//FR
CALSCALE:GREGORIAN
X-WR-CALNAME:Sucettes-détails dans tout le palais
BEGIN:VEVENT
UID:event-33418
SUMMARY:Sucettes-détails dans tout le palais
DESCRIPTION:<p><p>Jeu d’exploration et de lecture</p><br /> </p>
DTSTAMP:20260420T133621Z
DTSTART:20260712T113000Z
DTEND:20260712T153000Z
STATUS:CONFIRMED
BEGIN:VALARM
TRIGGER:-PT30M
DESCRIPTION:Sucettes-détails dans tout le palais
ACTION:DISPLAY
END:VALARM
END:VEVENT
END:VCALENDAR