BEGIN:VCALENDAR
VERSION:2.0
PRODID:-//Stratis iCal API//FR
CALSCALE:GREGORIAN
X-WR-CALNAME:Jeu des sept erreurs, voire plus !
BEGIN:VEVENT
UID:event-33419
SUMMARY:Jeu des sept erreurs  voire plus !
DESCRIPTION:<p><p>Autour de l'exposition Lecture(s)</p><br /> </p>
DTSTAMP:20260420T132841Z
DTSTART:20260723T113000Z
DTEND:20260723T153000Z
STATUS:CONFIRMED
BEGIN:VALARM
TRIGGER:-PT30M
DESCRIPTION:Jeu des sept erreurs  voire plus !
ACTION:DISPLAY
END:VALARM
END:VEVENT
END:VCALENDAR