BEGIN:VCALENDAR
VERSION:2.0
PRODID:-//Stratis iCal API//FR
CALSCALE:GREGORIAN
X-WR-CALNAME:Triathlon Limoges Métropole - 5e édition
BEGIN:VEVENT
UID:event-33421
SUMMARY:Triathlon Limoges Métropole - 5e édition
DESCRIPTION:<p><p>Dans le cadre d’un mois d’avril riche en évènements  L’Aquapolis accueillera les 25 et 26 avril la cinquième édition du Triathlon Limoges Métropole.</p><br />  </p>
DTSTAMP:20260420T142929Z
DTSTART:20260425T113000Z
DTEND:20260425T160000Z
STATUS:CONFIRMED
BEGIN:VALARM
TRIGGER:-PT30M
DESCRIPTION:Triathlon Limoges Métropole - 5e édition
ACTION:DISPLAY
END:VALARM
END:VEVENT
END:VCALENDAR