BEGIN:VCALENDAR
VERSION:2.0
PRODID:-//Stratis iCal API//FR
CALSCALE:GREGORIAN
X-WR-CALNAME:Exposition PARURES DES AMÉRIQUES
BEGIN:VEVENT
UID:event-33432
SUMMARY:Exposition PARURES DES AMÉRIQUES
DESCRIPTION:<p><p>Le musée des Cultures du Monde limougeaud présente sa nouvelle exposition de printemps &quot.Parures des Amériques&quot..</p><br /> </p>
DTSTAMP:20260421T141735Z
DTSTART:20260418T120000Z
DTEND:20260418T150000Z
STATUS:CONFIRMED
BEGIN:VALARM
TRIGGER:-PT30M
DESCRIPTION:Exposition PARURES DES AMÉRIQUES
ACTION:DISPLAY
END:VALARM
END:VEVENT
END:VCALENDAR