BEGIN:VCALENDAR
VERSION:2.0
PRODID:-//Stratis iCal API//FR
CALSCALE:GREGORIAN
X-WR-CALNAME:Journées d'étude de l'exposition "Les Énergies de la terre"
BEGIN:VEVENT
UID:event-33442
SUMMARY:Journées d'étude de l'exposition "Les Énergies de la terre"
DESCRIPTION:<p><p>Pour aller plus loin autour de l'exposition &quot.Les Énergies de la terre&quot.  le Musée national Adrien Dubouché s'associe à l'Université de Limoges et organise deux journées d'étude  les 21 et 22 mai 2026.</p><br /> </p>
DTSTAMP:20260421T114543Z
DTSTART:20260522T070000Z
DTEND:20260522T103000Z
STATUS:CONFIRMED
BEGIN:VALARM
TRIGGER:-PT30M
DESCRIPTION:Journées d'étude de l'exposition "Les Énergies de la terre"
ACTION:DISPLAY
END:VALARM
END:VEVENT
END:VCALENDAR